BEGIN:VCALENDAR
VERSION:2.0
PRODID:spatie/icalendar-generator
DESCRIPTION:Events from Epsom Remuera Croquet Club
X-WR-CALDESC:Events from Epsom Remuera Croquet Club
REFRESH-INTERVAL;VALUE=DURATION:PT1440M
X-PUBLISHED-TTL:PT1440M
BEGIN:VTIMEZONE
TZID:Pacific/Auckland
BEGIN:STANDARD
DTSTART:20250406T030000Z
TZOFFSETFROM:+1300
TZOFFSETTO:+1200
END:STANDARD
BEGIN:DAYLIGHT
DTSTART:20250928T020000Z
TZOFFSETFROM:+1200
TZOFFSETTO:+1300
END:DAYLIGHT
BEGIN:STANDARD
DTSTART:20260405T030000Z
TZOFFSETFROM:+1300
TZOFFSETTO:+1200
END:STANDARD
END:VTIMEZONE
BEGIN:VTIMEZONE
TZID:UTC
BEGIN:STANDARD
DTSTART:20250725T115931Z
TZOFFSETFROM:+0000
TZOFFSETTO:+0000
END:STANDARD
END:VTIMEZONE
BEGIN:VEVENT
UID:41-38
DTSTAMP:20260421T115931Z
SUMMARY:Function Hire
LOCATION:
ORGANIZER;CN=Helen HEPPNER:MAILTO:hevh@xtra.co.nz
DTSTART;TZID=Pacific/Auckland;VALUE=DATE:20251127
DTEND;TZID=Pacific/Auckland;VALUE=DATE:20251128
X-ALT-DESC;FMTTYPE=TEXT/HTML:
CATEGORIES:Booked functions
URL;VALUE=URI:https://epsom-remuera.croquet.org.nz/mc-events/function-hire-
 3/
METHOD:PUBLISH
END:VEVENT
END:VCALENDAR