BEGIN:VCALENDAR
VERSION:2.0
PRODID:-//Epsom Remuera Croquet Club - ECPv6.15.20//NONSGML v1.0//EN
CALSCALE:GREGORIAN
METHOD:PUBLISH
X-WR-CALNAME:Epsom Remuera Croquet Club
X-ORIGINAL-URL:https://epsom-remuera.croquet.org.nz
X-WR-CALDESC:Events for Epsom Remuera Croquet Club
REFRESH-INTERVAL;VALUE=DURATION:PT1H
X-Robots-Tag:noindex
X-PUBLISHED-TTL:PT1H
BEGIN:VTIMEZONE
TZID:Pacific/Auckland
BEGIN:STANDARD
TZOFFSETFROM:+1300
TZOFFSETTO:+1200
TZNAME:NZST
DTSTART:20250405T140000
END:STANDARD
BEGIN:DAYLIGHT
TZOFFSETFROM:+1200
TZOFFSETTO:+1300
TZNAME:NZDT
DTSTART:20250927T140000
END:DAYLIGHT
BEGIN:STANDARD
TZOFFSETFROM:+1300
TZOFFSETTO:+1200
TZNAME:NZST
DTSTART:20260404T140000
END:STANDARD
BEGIN:DAYLIGHT
TZOFFSETFROM:+1200
TZOFFSETTO:+1300
TZNAME:NZDT
DTSTART:20260926T140000
END:DAYLIGHT
BEGIN:STANDARD
TZOFFSETFROM:+1300
TZOFFSETTO:+1200
TZNAME:NZST
DTSTART:20270403T140000
END:STANDARD
BEGIN:DAYLIGHT
TZOFFSETFROM:+1200
TZOFFSETTO:+1300
TZNAME:NZDT
DTSTART:20270925T140000
END:DAYLIGHT
END:VTIMEZONE
BEGIN:VEVENT
DTSTART;TZID=Pacific/Auckland:20260207T100000
DTEND;TZID=Pacific/Auckland:20260429T123000
DTSTAMP:20260426T125710
CREATED:20250806T002251Z
LAST-MODIFIED:20250806T002251Z
UID:510-1770458400-1777465800@epsom-remuera.croquet.org.nz
SUMMARY:AC Open Handicap Singles
DESCRIPTION:ERCC event \nRegistrations: Yet to open \n 
URL:https://epsom-remuera.croquet.org.nz/event/ac-open-handicap-singles/
CATEGORIES:Club Competitions
END:VEVENT
BEGIN:VEVENT
DTSTART;TZID=Pacific/Auckland:20260504T080000
DTEND;TZID=Pacific/Auckland:20260507T170000
DTSTAMP:20260426T125710
CREATED:20260420T023537Z
LAST-MODIFIED:20260420T023705Z
UID:728-1777881600-1778173200@epsom-remuera.croquet.org.nz
SUMMARY:Clubhouse Painting
DESCRIPTION:During this time\, the Clubhouse use\, will be restricted to bathroom use only.
URL:https://epsom-remuera.croquet.org.nz/event/clubhouse-painting/
CATEGORIES:Maintenance
END:VEVENT
BEGIN:VEVENT
DTSTART;TZID=Pacific/Auckland:20260506T133000
DTEND;TZID=Pacific/Auckland:20260506T150000
DTSTAMP:20260426T125710
CREATED:20251017T223045Z
LAST-MODIFIED:20251017T224138Z
UID:578-1778074200-1778079600@epsom-remuera.croquet.org.nz
SUMMARY:Club Hire
DESCRIPTION:U3A – book club
URL:https://epsom-remuera.croquet.org.nz/event/club-hire-5/
CATEGORIES:Club Hire
END:VEVENT
BEGIN:VEVENT
DTSTART;TZID=Pacific/Auckland:20260522T103000
DTEND;TZID=Pacific/Auckland:20260522T123000
DTSTAMP:20260426T125710
CREATED:20250815T034936Z
LAST-MODIFIED:20260417T040626Z
UID:522-1779445800-1779453000@epsom-remuera.croquet.org.nz
SUMMARY:Management Committee Meeting
DESCRIPTION:Please forward any items for discussion to the ERCC Secretary no later than Friday 15 May
URL:https://epsom-remuera.croquet.org.nz/event/management-committee-meeting-2/
CATEGORIES:Management Committee
END:VEVENT
BEGIN:VEVENT
DTSTART;TZID=Pacific/Auckland:20260610T133000
DTEND;TZID=Pacific/Auckland:20260610T150000
DTSTAMP:20260426T125710
CREATED:20251017T223126Z
LAST-MODIFIED:20251017T224119Z
UID:580-1781098200-1781103600@epsom-remuera.croquet.org.nz
SUMMARY:Club Hire
DESCRIPTION:U3A – book club
URL:https://epsom-remuera.croquet.org.nz/event/club-hire-6/
CATEGORIES:Club Hire
END:VEVENT
BEGIN:VEVENT
DTSTART;TZID=Pacific/Auckland:20260708T133000
DTEND;TZID=Pacific/Auckland:20260708T150000
DTSTAMP:20260426T125710
CREATED:20251017T223202Z
LAST-MODIFIED:20251017T224100Z
UID:582-1783517400-1783522800@epsom-remuera.croquet.org.nz
SUMMARY:Club Hire
DESCRIPTION:U3A – book club
URL:https://epsom-remuera.croquet.org.nz/event/club-hire-7/
CATEGORIES:Club Hire
END:VEVENT
BEGIN:VEVENT
DTSTART;TZID=Pacific/Auckland:20260812T133000
DTEND;TZID=Pacific/Auckland:20260812T150000
DTSTAMP:20260426T125710
CREATED:20251017T223241Z
LAST-MODIFIED:20251017T224043Z
UID:584-1786541400-1786546800@epsom-remuera.croquet.org.nz
SUMMARY:Club Hire
DESCRIPTION:U3A – book club
URL:https://epsom-remuera.croquet.org.nz/event/club-hire-8/
CATEGORIES:Club Hire
END:VEVENT
BEGIN:VEVENT
DTSTART;TZID=Pacific/Auckland:20260909T133000
DTEND;TZID=Pacific/Auckland:20260909T150000
DTSTAMP:20260426T125710
CREATED:20251017T223325Z
LAST-MODIFIED:20251017T224025Z
UID:586-1788960600-1788966000@epsom-remuera.croquet.org.nz
SUMMARY:Club Hire
DESCRIPTION:U3A – book club
URL:https://epsom-remuera.croquet.org.nz/event/club-hire-9/
CATEGORIES:Club Hire
END:VEVENT
BEGIN:VEVENT
DTSTART;TZID=Pacific/Auckland:20261007T133000
DTEND;TZID=Pacific/Auckland:20261007T150000
DTSTAMP:20260426T125710
CREATED:20251017T223404Z
LAST-MODIFIED:20251017T223953Z
UID:588-1791379800-1791385200@epsom-remuera.croquet.org.nz
SUMMARY:Club Hire
DESCRIPTION:U3A – book club
URL:https://epsom-remuera.croquet.org.nz/event/club-hire-10/
CATEGORIES:Club Hire
END:VEVENT
BEGIN:VEVENT
DTSTART;TZID=Pacific/Auckland:20261111T133000
DTEND;TZID=Pacific/Auckland:20261111T150000
DTSTAMP:20260426T125710
CREATED:20251017T223446Z
LAST-MODIFIED:20251017T223937Z
UID:590-1794403800-1794409200@epsom-remuera.croquet.org.nz
SUMMARY:Club Hire
DESCRIPTION:U3A – book club
URL:https://epsom-remuera.croquet.org.nz/event/club-hire-11/
CATEGORIES:Club Hire
END:VEVENT
END:VCALENDAR